BEGIN:VCALENDAR
VERSION:2.0
PRODID:-//ADICAE Región de Murcia - ECPv6.15.20//NONSGML v1.0//EN
CALSCALE:GREGORIAN
METHOD:PUBLISH
X-WR-CALNAME:ADICAE Región de Murcia
X-ORIGINAL-URL:https://murcia.adicae.es
X-WR-CALDESC:Eventos para ADICAE Región de Murcia
REFRESH-INTERVAL;VALUE=DURATION:PT1H
X-Robots-Tag:noindex
X-PUBLISHED-TTL:PT1H
BEGIN:VTIMEZONE
TZID:Europe/Madrid
BEGIN:DAYLIGHT
TZOFFSETFROM:+0100
TZOFFSETTO:+0200
TZNAME:CEST
DTSTART:20230326T010000
END:DAYLIGHT
BEGIN:STANDARD
TZOFFSETFROM:+0200
TZOFFSETTO:+0100
TZNAME:CET
DTSTART:20231029T010000
END:STANDARD
BEGIN:DAYLIGHT
TZOFFSETFROM:+0100
TZOFFSETTO:+0200
TZNAME:CEST
DTSTART:20240331T010000
END:DAYLIGHT
BEGIN:STANDARD
TZOFFSETFROM:+0200
TZOFFSETTO:+0100
TZNAME:CET
DTSTART:20241027T010000
END:STANDARD
BEGIN:DAYLIGHT
TZOFFSETFROM:+0100
TZOFFSETTO:+0200
TZNAME:CEST
DTSTART:20250330T010000
END:DAYLIGHT
BEGIN:STANDARD
TZOFFSETFROM:+0200
TZOFFSETTO:+0100
TZNAME:CET
DTSTART:20251026T010000
END:STANDARD
END:VTIMEZONE
BEGIN:VEVENT
DTSTART;TZID=Europe/Madrid:20240306T190000
DTEND;TZID=Europe/Madrid:20240306T203000
DTSTAMP:20260420T183012
CREATED:20241204T174723Z
LAST-MODIFIED:20241204T174723Z
UID:460-1709751600-1709757000@murcia.adicae.es
SUMMARY:Charla sobre Género y Consumo
DESCRIPTION:Charla sobre Género y Consumo \nSe abordará de manera práctica y con ejemplos de campañas y estrategias de marketing la relación entre género y consumo. \nSu utilización interesada por las compañías en sus campañas publicitarias. \nEn el marco del taller se buscará la participación de los asistentes a través de un debate crítico desde la perspectiva del consumo. \nMiércoles\, 6 de marzo 2024. A las 19 horas. Aula cedida. Edificio Alba nº 8 bajo. Murcia
URL:https://murcia.adicae.es/actividad/charla-sobre-genero-y-consumo/
ATTACH;FMTTYPE=image/png:https://murcia.adicae.es/wp-content/uploads/2024/12/Genero-y-consumo-6-03-2024.png
END:VEVENT
BEGIN:VEVENT
DTSTART;TZID=Europe/Madrid:20240311T100000
DTEND;TZID=Europe/Madrid:20240311T120000
DTSTAMP:20260420T183012
CREATED:20241205T105432Z
LAST-MODIFIED:20241205T105432Z
UID:502-1710151200-1710158400@murcia.adicae.es
SUMMARY:ECONOMÍA CIRCULAR Y CONSUMO RESPONSABLE
DESCRIPTION:Economía Circular y Consumo Responsable. \nLa finalidad perseguida es acercar de una manera práctica conociendo las distintas experiencias e iniciativas desde el punto de vista de los productores locales\, iniciativas de Economía Circular\, grupos de consumo y el papel fundamental que representa el consumidor como motor de cambio del sistema productivo. \nLunes\, 11 de marzo de 2024. A las 10:00 horas \nIES Juan Carlos I. (C. Reina Sofía\, 1\, 30007 Murcia)
URL:https://murcia.adicae.es/actividad/economia-circular-y-consumo-responsable-5/
ATTACH;FMTTYPE=image/jpeg:https://murcia.adicae.es/wp-content/uploads/2024/12/CONSUMO-RESPONSABLE-11-03-2024.jpg
END:VEVENT
BEGIN:VEVENT
DTSTART;TZID=Europe/Madrid:20240314T090000
DTEND;TZID=Europe/Madrid:20240314T113000
DTSTAMP:20260420T183012
CREATED:20241205T105742Z
LAST-MODIFIED:20241205T110254Z
UID:506-1710406800-1710415800@murcia.adicae.es
SUMMARY:ECONOMÍA CIRCULAR Y CONSUMO RESPONSABLE
DESCRIPTION:Economía Circular y Consumo Responsable. \nLa finalidad perseguida es acercar de una manera práctica conociendo las distintas experiencias e iniciativas desde el punto de vista de los productores locales\, iniciativas de Economía Circular\, grupos de consumo y el papel fundamental que representa el consumidor como motor de cambio del sistema productivo. \nJueves\, 14 de marzo de 2024. A las 09:10 horas \nIES Juan Carlos I. (C. Reina Sofía\, 1\, 30007 Murcia)
URL:https://murcia.adicae.es/actividad/economia-circular-y-consumo-responsable-6/
ATTACH;FMTTYPE=image/jpeg:https://murcia.adicae.es/wp-content/uploads/2024/12/CONSUMO-RESPONSABLE-Jueves-14-de-marzo.jpg
END:VEVENT
BEGIN:VEVENT
DTSTART;TZID=Europe/Madrid:20240315T120000
DTEND;TZID=Europe/Madrid:20240315T133000
DTSTAMP:20260420T183012
CREATED:20241205T110104Z
LAST-MODIFIED:20241205T110104Z
UID:509-1710504000-1710509400@murcia.adicae.es
SUMMARY:ECONOMÍA CIRCULAR Y CONSUMO RESPONSABLE
DESCRIPTION:Economía Circular y Consumo Responsable. \nLa finalidad perseguida es acercar de una manera práctica conociendo las distintas experiencias e iniciativas desde el punto de vista de los productores locales\, iniciativas de Economía Circular\, grupos de consumo y el papel fundamental que representa el consumidor como motor de cambio del sistema productivo. \n15 de marzo de 2024. A las 12:25 horas \nIES Juan Carlos I. (C. Reina Sofía\, 1\, 30007 Murcia)
URL:https://murcia.adicae.es/actividad/economia-circular-y-consumo-responsable-7/
ATTACH;FMTTYPE=image/jpeg:https://murcia.adicae.es/wp-content/uploads/2024/12/CONSUMO-RESPONSABLE-Jueves-15-de-marzo.jpg
END:VEVENT
END:VCALENDAR