BEGIN:VCALENDAR
VERSION:2.0
PRODID:-//ADICAE Región de Murcia - ECPv6.15.20//NONSGML v1.0//EN
CALSCALE:GREGORIAN
METHOD:PUBLISH
X-WR-CALNAME:ADICAE Región de Murcia
X-ORIGINAL-URL:https://murcia.adicae.es
X-WR-CALDESC:Eventos para ADICAE Región de Murcia
REFRESH-INTERVAL;VALUE=DURATION:PT1H
X-Robots-Tag:noindex
X-PUBLISHED-TTL:PT1H
BEGIN:VTIMEZONE
TZID:Europe/Madrid
BEGIN:DAYLIGHT
TZOFFSETFROM:+0100
TZOFFSETTO:+0200
TZNAME:CEST
DTSTART:20230326T010000
END:DAYLIGHT
BEGIN:STANDARD
TZOFFSETFROM:+0200
TZOFFSETTO:+0100
TZNAME:CET
DTSTART:20231029T010000
END:STANDARD
BEGIN:DAYLIGHT
TZOFFSETFROM:+0100
TZOFFSETTO:+0200
TZNAME:CEST
DTSTART:20240331T010000
END:DAYLIGHT
BEGIN:STANDARD
TZOFFSETFROM:+0200
TZOFFSETTO:+0100
TZNAME:CET
DTSTART:20241027T010000
END:STANDARD
BEGIN:DAYLIGHT
TZOFFSETFROM:+0100
TZOFFSETTO:+0200
TZNAME:CEST
DTSTART:20250330T010000
END:DAYLIGHT
BEGIN:STANDARD
TZOFFSETFROM:+0200
TZOFFSETTO:+0100
TZNAME:CET
DTSTART:20251026T010000
END:STANDARD
END:VTIMEZONE
BEGIN:VEVENT
DTSTART;TZID=Europe/Madrid:20240209T113000
DTEND;TZID=Europe/Madrid:20240209T130000
DTSTAMP:20260420T194928
CREATED:20241204T183950Z
LAST-MODIFIED:20241204T183950Z
UID:479-1707478200-1707483600@murcia.adicae.es
SUMMARY:CRIPTOMONEDAS ¿FRAUDE O FUTURO?
DESCRIPTION:Criptomonedas. ¿Fraude o Futuro? \n¿Qué se va a tratar en esta actividad? Se explicará qué son las criptomonedas\, qué es el blockchain o cadena de bloques\, los tipos de criptomonedas existentes\, los riesgos que implican para el consumidor su adquisición y la fiscalidad de esta clase de monedas. \nViernes\, 9 de febrero. A las 11:45h \nIES Miguel Hernández (Calle Miguel Hernández\, 17\, 30840. Alhama de Murcia)
URL:https://murcia.adicae.es/actividad/criptomonedas-fraude-o-futuro-4/
ATTACH;FMTTYPE=image/jpeg:https://murcia.adicae.es/wp-content/uploads/2024/12/CRIPTOMONEDAS.-IES-MIGUEL-HERNANDEZ.jpg
END:VEVENT
BEGIN:VEVENT
DTSTART;TZID=Europe/Madrid:20240216T100000
DTEND;TZID=Europe/Madrid:20240216T113000
DTSTAMP:20260420T194928
CREATED:20241205T102210Z
LAST-MODIFIED:20241205T102210Z
UID:483-1708077600-1708083000@murcia.adicae.es
SUMMARY:ECONOMÍA CIRCULAR Y ALIMENTACIÓN SOSTENIBLE
DESCRIPTION:Economía Circular y Alimentación Sostenible. Un cambio en el modelo de consumo es posible. \nLa finalidad perseguida es acercar de una manera práctica conociendo las distintas experiencias e iniciativas desde el punto de vista de los productores locales\, iniciativas de Economía Circular\, grupos de consumo y el papel fundamental que representa el consumidor como motor de cambio del sistema productivo. \n16 de Febrero. A las 10:20h. \nIES Miguel Hernández. (C. Miguel Hernández\, 17\, 30840 Alhama de Murcia\, Murcia)
URL:https://murcia.adicae.es/actividad/economia-circular-y-alimentacion-sostenible/
ATTACH;FMTTYPE=image/jpeg:https://murcia.adicae.es/wp-content/uploads/2024/12/ECONOMIA-CIRCULAR.-IES-Miguel-Hernandez.jpg
END:VEVENT
END:VCALENDAR