BEGIN:VCALENDAR
VERSION:2.0
PRODID:-//ADICAE Región de Murcia - ECPv6.15.20//NONSGML v1.0//EN
CALSCALE:GREGORIAN
METHOD:PUBLISH
X-ORIGINAL-URL:https://murcia.adicae.es
X-WR-CALDESC:Eventos para ADICAE Región de Murcia
REFRESH-INTERVAL;VALUE=DURATION:PT1H
X-Robots-Tag:noindex
X-PUBLISHED-TTL:PT1H
BEGIN:VTIMEZONE
TZID:Europe/Madrid
BEGIN:DAYLIGHT
TZOFFSETFROM:+0100
TZOFFSETTO:+0200
TZNAME:CEST
DTSTART:20230326T010000
END:DAYLIGHT
BEGIN:STANDARD
TZOFFSETFROM:+0200
TZOFFSETTO:+0100
TZNAME:CET
DTSTART:20231029T010000
END:STANDARD
BEGIN:DAYLIGHT
TZOFFSETFROM:+0100
TZOFFSETTO:+0200
TZNAME:CEST
DTSTART:20240331T010000
END:DAYLIGHT
BEGIN:STANDARD
TZOFFSETFROM:+0200
TZOFFSETTO:+0100
TZNAME:CET
DTSTART:20241027T010000
END:STANDARD
BEGIN:DAYLIGHT
TZOFFSETFROM:+0100
TZOFFSETTO:+0200
TZNAME:CEST
DTSTART:20250330T010000
END:DAYLIGHT
BEGIN:STANDARD
TZOFFSETFROM:+0200
TZOFFSETTO:+0100
TZNAME:CET
DTSTART:20251026T010000
END:STANDARD
END:VTIMEZONE
BEGIN:VEVENT
DTSTART;TZID=Europe/Madrid:20240129T113000
DTEND;TZID=Europe/Madrid:20240129T130000
DTSTAMP:20260420T212625
CREATED:20241205T102756Z
LAST-MODIFIED:20241205T102756Z
UID:486-1706527800-1706533200@murcia.adicae.es
SUMMARY:ECONOMÍA CIRCULAR Y ALIMENTACIÓN SOSTENIBLE
DESCRIPTION:Economía Circular y Alimentación Sostenible. Un cambio en el modelo de consumo es posible. \nLa finalidad perseguida es acercar de una manera práctica conociendo las distintas experiencias e iniciativas desde el punto de vista de los productores locales\, iniciativas de Economía Circular\, grupos de consumo y el papel fundamental que representa el consumidor como motor de cambio del sistema productivo. \nLunes\, 29-01-2024. A las 11:30 horas \nAula 1.4. Facultad de Comunicación y Documentación en Universidad de Murcia. (C. Campus Universitario\, 8\, 30100 Murcia)
URL:https://murcia.adicae.es/actividad/economia-circular-y-alimentacion-sostenible-2/
ATTACH;FMTTYPE=image/jpeg:https://murcia.adicae.es/wp-content/uploads/2024/12/Economia-Circular.-Lunes-29-01-2024.-A-las-1130-horas.-Aula-1.4.-Facultad-de-Comunicacion-en-Universidad-de-Murcia.-.jpg
END:VEVENT
BEGIN:VEVENT
DTSTART;TZID=Europe/Madrid:20240130T090000
DTEND;TZID=Europe/Madrid:20240130T130000
DTSTAMP:20260420T212625
CREATED:20241205T103306Z
LAST-MODIFIED:20241205T103434Z
UID:489-1706605200-1706619600@murcia.adicae.es
SUMMARY:ECONOMÍA CIRCULAR Y ALIMENTACIÓN SOSTENIBLE
DESCRIPTION:Economía Circular y Alimentación Sostenible. Un cambio en el modelo de consumo es posible. \nLa finalidad perseguida es acercar de una manera práctica conociendo las distintas experiencias e iniciativas desde el punto de vista de los productores locales\, iniciativas de Economía Circular\, grupos de consumo y el papel fundamental que representa el consumidor como motor de cambio del sistema productivo. \nMartes\, 30 de enero. A las 9:00h. \nFacultad de Comunicación y Documentación de la Universidad de Murcia. (C. Campus Universitario\, 8\, 30100 Murcia)
URL:https://murcia.adicae.es/actividad/economia-circular-y-alimentacion-sostenible-3/
ATTACH;FMTTYPE=image/jpeg:https://murcia.adicae.es/wp-content/uploads/2024/12/Economia-Circular.-Martes-30-enero-2024.-A-las-9h-Aula-1.4.-Facultad-de-Comunicacion-y-Documentacion-Universidad-de-Murciaun-poco-de-texto.jpg
END:VEVENT
END:VCALENDAR