BEGIN:VCALENDAR
VERSION:2.0
PRODID:-//ADICAE Región de Murcia - ECPv6.15.20//NONSGML v1.0//EN
CALSCALE:GREGORIAN
METHOD:PUBLISH
X-WR-CALNAME:ADICAE Región de Murcia
X-ORIGINAL-URL:https://murcia.adicae.es
X-WR-CALDESC:Eventos para ADICAE Región de Murcia
REFRESH-INTERVAL;VALUE=DURATION:PT1H
X-Robots-Tag:noindex
X-PUBLISHED-TTL:PT1H
BEGIN:VTIMEZONE
TZID:Europe/Madrid
BEGIN:DAYLIGHT
TZOFFSETFROM:+0100
TZOFFSETTO:+0200
TZNAME:CEST
DTSTART:20230326T010000
END:DAYLIGHT
BEGIN:STANDARD
TZOFFSETFROM:+0200
TZOFFSETTO:+0100
TZNAME:CET
DTSTART:20231029T010000
END:STANDARD
BEGIN:DAYLIGHT
TZOFFSETFROM:+0100
TZOFFSETTO:+0200
TZNAME:CEST
DTSTART:20240331T010000
END:DAYLIGHT
BEGIN:STANDARD
TZOFFSETFROM:+0200
TZOFFSETTO:+0100
TZNAME:CET
DTSTART:20241027T010000
END:STANDARD
BEGIN:DAYLIGHT
TZOFFSETFROM:+0100
TZOFFSETTO:+0200
TZNAME:CEST
DTSTART:20250330T010000
END:DAYLIGHT
BEGIN:STANDARD
TZOFFSETFROM:+0200
TZOFFSETTO:+0100
TZNAME:CET
DTSTART:20251026T010000
END:STANDARD
END:VTIMEZONE
BEGIN:VEVENT
DTSTART;TZID=Europe/Madrid:20240415T090000
DTEND;TZID=Europe/Madrid:20240415T110000
DTSTAMP:20260420T183014
CREATED:20241205T113153Z
LAST-MODIFIED:20241205T113153Z
UID:517-1713171600-1713178800@murcia.adicae.es
SUMMARY:EL TRACKING AL CONSUMIDOR. EL DILEMA DE LAS REDES
DESCRIPTION:El Tracking al consumidor\, el dilema de las redes. Seguimiento online que nos hacen como consumidores para vendernos así los productos acordes a nuestros gustos. Evitar fraudes en compras a distancia. Cyberseguridad para consumidores. \nLunes\, 15 de abril de 2024. A las 9h. \nIES Ramón y Cajal. (C. Colegio de Procuradores de Murcia\, 10\, Murcia)
URL:https://murcia.adicae.es/actividad/el-tracking-al-consumidor-el-dilema-de-las-redes/
ATTACH;FMTTYPE=image/jpeg:https://murcia.adicae.es/wp-content/uploads/2024/12/Lunes-15-de-abril.-A-las-900-horas.-IES-Ramon-y-Cajal.jpg
END:VEVENT
END:VCALENDAR