BEGIN:VCALENDAR
VERSION:2.0
PRODID:-//ADICAE Región de Murcia - ECPv6.15.20//NONSGML v1.0//EN
CALSCALE:GREGORIAN
METHOD:PUBLISH
X-ORIGINAL-URL:https://murcia.adicae.es
X-WR-CALDESC:Eventos para ADICAE Región de Murcia
REFRESH-INTERVAL;VALUE=DURATION:PT1H
X-Robots-Tag:noindex
X-PUBLISHED-TTL:PT1H
BEGIN:VTIMEZONE
TZID:Europe/Madrid
BEGIN:DAYLIGHT
TZOFFSETFROM:+0100
TZOFFSETTO:+0200
TZNAME:CEST
DTSTART:20230326T010000
END:DAYLIGHT
BEGIN:STANDARD
TZOFFSETFROM:+0200
TZOFFSETTO:+0100
TZNAME:CET
DTSTART:20231029T010000
END:STANDARD
BEGIN:DAYLIGHT
TZOFFSETFROM:+0100
TZOFFSETTO:+0200
TZNAME:CEST
DTSTART:20240331T010000
END:DAYLIGHT
BEGIN:STANDARD
TZOFFSETFROM:+0200
TZOFFSETTO:+0100
TZNAME:CET
DTSTART:20241027T010000
END:STANDARD
BEGIN:DAYLIGHT
TZOFFSETFROM:+0100
TZOFFSETTO:+0200
TZNAME:CEST
DTSTART:20250330T010000
END:DAYLIGHT
BEGIN:STANDARD
TZOFFSETFROM:+0200
TZOFFSETTO:+0100
TZNAME:CET
DTSTART:20251026T010000
END:STANDARD
END:VTIMEZONE
BEGIN:VEVENT
DTSTART;TZID=Europe/Madrid:20240410T080000
DTEND;TZID=Europe/Madrid:20240410T100000
DTSTAMP:20260420T183010
CREATED:20241205T104852Z
LAST-MODIFIED:20241205T104852Z
UID:497-1712736000-1712743200@murcia.adicae.es
SUMMARY:ECONOMÍA CIRCULAR Y CONSUMO RESPONSABLE
DESCRIPTION:Economía Circular y Consumo responsable. \nLa finalidad perseguida es acercar de una manera práctica conociendo las distintas experiencias e iniciativas desde el punto de vista de los productores locales\, iniciativas de Economía Circular\, grupos de consumo y el papel fundamental que representa el consumidor como motor de cambio del sistema productivo. \n10 de abril. A las 08:20h. \nIES Licenciado Francisco Cascales. (P.º del Teniente Flomesta\, 1\, 30001 Murcia)
URL:https://murcia.adicae.es/actividad/economia-circular-y-consumo-responsable-4/
ATTACH;FMTTYPE=image/jpeg:https://murcia.adicae.es/wp-content/uploads/2024/12/CONSUMO-RESPONSABLE-10-4-2024.jpg
END:VEVENT
END:VCALENDAR